BEGIN:VCALENDAR
VERSION:2.0
PRODID:-//hacksw/handcal//NONSGML v1.0//EN
BEGIN:VEVENT
SUMMARY:[Non encadr] - NATURE - SL 1h45 dont 8x4 seuil 60 r' 130
UID:8612331e-1b67-4bc8-97ab-b4af3b4f625c
DTSTART:20260425T220000Z
DTEND:20260426T220000Z
LOCATION:Localisation   
CATEGORIES:Administratif
STATUS:
URL;VALUE=URI:https://www.runinparigne72.fr/evenements/2026/04/26/non-encadr-nature-sl-1h45-dont-8x4-seuil-60-r-130-2432139
END:VEVENT
END:VCALENDAR
