BEGIN:VCALENDAR
VERSION:2.0
PRODID:-//hacksw/handcal//NONSGML v1.0//EN
BEGIN:VEVENT
SUMMARY:PISTE - Footing 20min - PPG - 8x2-r1 VMA 90% r
UID:6bddbb20-8b33-4657-b616-0f0a28e97a1b
DTSTART:20260423T220000Z
DTEND:20260424T220000Z
LOCATION:Localisation   
CATEGORIES:Administratif
STATUS:
URL;VALUE=URI:https://www.runinparigne72.fr/evenements/2026/04/24/piste-footing-20min-ppg-8x2-r1-vma-90-r-2432138
END:VEVENT
END:VCALENDAR
