BEGIN:VCALENDAR
VERSION:2.0
PRODID:-//hacksw/handcal//NONSGML v1.0//EN
BEGIN:VEVENT
SUMMARY:ROUTE - Footing 30min - Ctes 3x(5x60m ou 15) r descente R' 3 (cte de +15%) sprint, exo isomtrique quadri
UID:087df47d-d7a9-4f17-b401-fc053727ce7e
DTSTART:20260421T220000Z
DTEND:20260422T220000Z
LOCATION:Localisation   
CATEGORIES:Administratif
STATUS:
URL;VALUE=URI:https://www.runinparigne72.fr/evenements/2026/04/22/route-footing-30min-ctes-3x5x60m-ou-15-r-descente-r-3-cte-de-15-sprint-exo-isomtrique-quadri-2432137
END:VEVENT
END:VCALENDAR
