BEGIN:VCALENDAR
VERSION:2.0
PRODID:-//hacksw/handcal//NONSGML v1.0//EN
BEGIN:VEVENT
SUMMARY:Renfo DOJO - Marche fermier 3T, Lunges ou et squat pdc 1T - corde a sauter - Tabata1 planche max Tabata2 planches laterales KB et russian twists - Tabata 3 squat KB UP, adducteurs KB, lunges AR alterne Tabata 3 mollets
UID:56388b70-c20f-4698-92f2-51f2641c1dfd
DTSTART:20260420T164500Z
DTEND:20260420T180000Z
LOCATION:Localisation   
CATEGORIES:Sportif
STATUS:
URL;VALUE=URI:https://www.runinparigne72.fr/evenements/2026/04/20/renfo-dojo-marche-fermier-3t-lunges-ou-et-squat-pdc-1t-corde-a-sauter-tabata1-planche-max-tabata2-planches-laterales-kb-et-russian-twists-tabata-3-squat-kb-up-adducteurs-kb-lunges-ar-alterne-tabata-3-mollets-2442990
END:VEVENT
END:VCALENDAR
