BEGIN:VCALENDAR
VERSION:2.0
PRODID:-//hacksw/handcal//NONSGML v1.0//EN
BEGIN:VEVENT
SUMMARY:PISTE - Footing 20min - PPG - Seance route (50-40-30) pendant 15min ou SL 50
UID:d0b345de-4d46-4f21-a6c4-d9803224737a
DTSTART:20260420T164500Z
DTEND:20260420T180000Z
LOCATION:Localisation   
CATEGORIES:Sportif
STATUS:
URL;VALUE=URI:https://www.runinparigne72.fr/evenements/2026/04/20/piste-footing-20min-ppg-seance-route-50-40-30-pendant-15min-ou-sl-50-2442991
END:VEVENT
END:VCALENDAR
