BEGIN:VCALENDAR
VERSION:2.0
PRODID:-//hacksw/handcal//NONSGML v1.0//EN
BEGIN:VEVENT
SUMMARY:[Non encadr] - NATURE - 1h15 progressifs ? ? 3/3 (EF/actif/42)
UID:d0374e5c-90cd-4398-9184-ed3798ecdf73
DTSTART:20260418T220000Z
DTEND:20260419T220000Z
LOCATION:Localisation   
CATEGORIES:Administratif
STATUS:
URL;VALUE=URI:https://www.runinparigne72.fr/evenements/2026/04/19/non-encadr-nature-1h15-progressifs-33-efactif42-2432135
END:VEVENT
END:VCALENDAR
