BEGIN:VCALENDAR
VERSION:2.0
PRODID:-//hacksw/handcal//NONSGML v1.0//EN
BEGIN:VEVENT
SUMMARY:PISTE - Footing 20min - PPG - 6x 30-30+ 6x3 r1 as 10 - RAC 5min
UID:675fef08-6f74-468c-9b4a-b574de08815a
DTSTART:20260416T220000Z
DTEND:20260417T220000Z
LOCATION:Localisation   
CATEGORIES:Administratif
STATUS:
URL;VALUE=URI:https://www.runinparigne72.fr/evenements/2026/04/17/piste-footing-20min-ppg-6x-30-30-6x3-r1-as-10-rac-5min-2432134
END:VEVENT
END:VCALENDAR
