BEGIN:VCALENDAR
VERSION:2.0
PRODID:-//hacksw/handcal//NONSGML v1.0//EN
BEGIN:VEVENT
SUMMARY:PISTE - Footing 20min - PPG - Ctes 6x45 6x30 6x15 r Temps d'effort jusqu'au retour dpart - RAC 5min
UID:ef21842b-8505-412b-ba08-0082a0d7d6dd
DTSTART:20260414T220000Z
DTEND:20260415T220000Z
LOCATION:Localisation   
CATEGORIES:Administratif
STATUS:
URL;VALUE=URI:https://www.runinparigne72.fr/evenements/2026/04/15/piste-footing-20min-ppg-ctes-6x45-6x30-6x15-r-temps-deffort-jusquau-retour-dpart-rac-5min-2432133
END:VEVENT
END:VCALENDAR
