BEGIN:VCALENDAR
VERSION:2.0
PRODID:-//hacksw/handcal//NONSGML v1.0//EN
BEGIN:VEVENT
SUMMARY:Renfo DOJO Gammes en exterieur - Marche fermier 3T, Lunges ou et squat pdc 1T - corde a sauter - Tabata1 planches Tabata2 planches laterales KB et russian twists -  TABATA3 chaise lestee ou pas, squat saute pointes - KB swing - mobilite etirements
UID:54d02bd8-2014-4d5b-8039-6f5807e020c4
DTSTART:20260413T164500Z
DTEND:20260413T181500Z
LOCATION:Localisation   
CATEGORIES:Sportif
STATUS:
URL;VALUE=URI:https://www.runinparigne72.fr/evenements/2026/04/13/renfo-dojo-gammes-en-exterieur-marche-fermier-3t-lunges-ou-et-squat-pdc-1t-corde-a-sauter-tabata1-planches-tabata2-planches-laterales-kb-et-russian-twists-tabata3-chaise-lestee-ou-pas-squat-saute-pointes-kb-swing-mobilite-etirements-2440478
END:VEVENT
END:VCALENDAR
