BEGIN:VCALENDAR
VERSION:2.0
PRODID:-//hacksw/handcal//NONSGML v1.0//EN
BEGIN:VEVENT
SUMMARY:Footing 20min - Seance piste (Pyramide 200-300-400-600-400-300-200) ou SL 50 - RAC 5min
UID:177411b0-e11d-487e-8a06-10feadb6f3cd
DTSTART:20260413T164500Z
DTEND:20260413T220000Z
LOCATION:Localisation   
CATEGORIES:Sportif
STATUS:
URL;VALUE=URI:https://www.runinparigne72.fr/evenements/2026/04/13/footing-20min-seance-piste-pyramide-200-300-400-600-400-300-200-ou-sl-50-rac-5min-2440479
END:VEVENT
END:VCALENDAR
