BEGIN:VCALENDAR
VERSION:2.0
PRODID:-//hacksw/handcal//NONSGML v1.0//EN
BEGIN:VEVENT
SUMMARY:[Non encadr] - NATURE - SL 50  1h10
UID:8156d68e-ef01-446f-9921-9a6e0ff123d3
DTSTART:20260411T220000Z
DTEND:20260412T220000Z
LOCATION:Localisation   
CATEGORIES:Administratif
STATUS:
URL;VALUE=URI:https://www.runinparigne72.fr/evenements/2026/04/12/non-encadr-nature-sl-50-1h10-2432131
END:VEVENT
END:VCALENDAR
