BEGIN:VCALENDAR
VERSION:2.0
PRODID:-//hacksw/handcal//NONSGML v1.0//EN
BEGIN:VEVENT
SUMMARY:ROUTE - Footing 25min - 2 x 10 minutes d'enchainement montes  85-90% VMA/descentes effectuer  allure rapide - RAC 5min
UID:21cfbb61-0c58-469c-87f8-0c5ac62b53a6
DTSTART:20260409T220000Z
DTEND:20260410T220000Z
LOCATION:Localisation   
CATEGORIES:Administratif
STATUS:
URL;VALUE=URI:https://www.runinparigne72.fr/evenements/2026/04/10/route-footing-25min-2-x-10-minutes-denchainement-montes-85-90-vmadescentes-effectuer-allure-rapide-rac-5min-2432130
END:VEVENT
END:VCALENDAR
