BEGIN:VCALENDAR
VERSION:2.0
PRODID:-//hacksw/handcal//NONSGML v1.0//EN
BEGIN:VEVENT
SUMMARY:PISTE - Footing 20min - PPG - 8 x 400m  100%VMA - RAC 5min
UID:6e43e002-944c-42f3-846c-e168d47ec9dd
DTSTART:20260407T220000Z
DTEND:20260408T220000Z
LOCATION:Localisation   
CATEGORIES:Administratif
STATUS:
URL;VALUE=URI:https://www.runinparigne72.fr/evenements/2026/04/08/piste-footing-20min-ppg-8-x-400m-100vma-rac-5min-2432129
END:VEVENT
END:VCALENDAR
