BEGIN:VCALENDAR
VERSION:2.0
PRODID:-//hacksw/handcal//NONSGML v1.0//EN
BEGIN:VEVENT
SUMMARY:NATURE - Footing 25min - PPG - 8 cotes de 200  250m rcupration en redescendant - RAC 5min
UID:8b164f95-3351-4005-8021-4c4cc60f4ea8
DTSTART:20260405T220000Z
DTEND:20260406T220000Z
LOCATION:Localisation   
CATEGORIES:Administratif
STATUS:
URL;VALUE=URI:https://www.runinparigne72.fr/evenements/2026/04/06/nature-footing-25min-ppg-8-cotes-de-200-250m-rcupration-en-redescendant-rac-5min-2432128
END:VEVENT
END:VCALENDAR
