BEGIN:VCALENDAR
VERSION:2.0
PRODID:-//hacksw/handcal//NONSGML v1.0//EN
BEGIN:VEVENT
SUMMARY:[Non encadr] - NATURE - SL 50  1h10
UID:d2773f17-9e6c-49e4-976b-afcd37c05d79
DTSTART:20260404T220000Z
DTEND:20260405T220000Z
LOCATION:Localisation   
CATEGORIES:Administratif
STATUS:
URL;VALUE=URI:https://www.runinparigne72.fr/evenements/2026/04/05/non-encadr-nature-sl-50-1h10-2432127
END:VEVENT
END:VCALENDAR
