BEGIN:VCALENDAR
VERSION:2.0
PRODID:-//hacksw/handcal//NONSGML v1.0//EN
BEGIN:VEVENT
SUMMARY:ROUTE - Footing 30min - 2x8x30''-30''  110%VMA - RAC 5min
UID:f2a37bc7-3690-4887-a61c-54e82be91a00
DTSTART:20260402T220000Z
DTEND:20260403T220000Z
LOCATION:Localisation   
CATEGORIES:Administratif
STATUS:
URL;VALUE=URI:https://www.runinparigne72.fr/evenements/2026/04/03/route-footing-30min-2x8x30-30-110vma-rac-5min-2432126
END:VEVENT
END:VCALENDAR
