BEGIN:VCALENDAR
VERSION:2.0
PRODID:-//hacksw/handcal//NONSGML v1.0//EN
BEGIN:VEVENT
SUMMARY:NATURE - Footing 25min - PPG - 2 x 5 cotes avec une rcupration en redescendant entre chaque et 3 minutes entre chaque srie (Gallouedec) - RAC 5min
UID:3f220e7e-8749-4f8f-972e-5ef7a5d57917
DTSTART:20260331T220000Z
DTEND:20260401T220000Z
LOCATION:Localisation   
CATEGORIES:Administratif
STATUS:
URL;VALUE=URI:https://www.runinparigne72.fr/evenements/2026/04/01/nature-footing-25min-ppg-2-x-5-cotes-avec-une-rcupration-en-redescendant-entre-chaque-et-3-minutes-entre-chaque-srie-gallouedec-rac-5min-2432125
END:VEVENT
END:VCALENDAR
