BEGIN:VCALENDAR
VERSION:2.0
PRODID:-//hacksw/handcal//NONSGML v1.0//EN
BEGIN:VEVENT
SUMMARY:Renfo Abs vacuum TABATA1 (russian twists-planches laterales actifs) TABATA2 squat sumo, fentes av, fentes arr squat serre haltere TABATA3 squat 1 jambe DG, fentes arr croisees Tabata 4 Exo ischio a 2, nordic curl - exo adducteurs, hanches, Mobilite
UID:24c2f512-3217-4fb1-8084-c00d71453ac7
DTSTART:20260330T164500Z
DTEND:20260330T183000Z
LOCATION:Localisation   
CATEGORIES:Sportif
STATUS:
URL;VALUE=URI:https://www.runinparigne72.fr/evenements/2026/03/30/renfo-abs-vacuum-tabata1-russian-twists-planches-laterales-actifs-tabata2-squat-sumo-fentes-av-fentes-arr-squat-serre-haltere-tabata3-squat-1-jambe-dg-fentes-arr-croisees-tabata-4-exo-ischio-a-2-nordic-curl-exo-adducteurs-hanches-mobilite-2434335
END:VEVENT
END:VCALENDAR
