BEGIN:VCALENDAR
VERSION:2.0
PRODID:-//hacksw/handcal//NONSGML v1.0//EN
BEGIN:VEVENT
SUMMARY:PISTE - Footing 25min - 5 x 500m  100%VMA - RAC 5min
UID:1412d6e4-34db-4907-b925-3fb759fad4b7
DTSTART:20260330T164500Z
DTEND:20260330T220000Z
LOCATION:Localisation   
CATEGORIES:Sportif
STATUS:
URL;VALUE=URI:https://www.runinparigne72.fr/evenements/2026/03/30/piste-footing-25min-5-x-500m-100vma-rac-5min-2434337
END:VEVENT
END:VCALENDAR
