BEGIN:VCALENDAR
VERSION:2.0
PRODID:-//hacksw/handcal//NONSGML v1.0//EN
BEGIN:VEVENT
SUMMARY:Evenement du 2026-03-29
UID:485e939d-71c8-4d3d-84be-9a00b4e7ee38
DTSTART:20260328T230000Z
DTEND:20260329T230000Z
LOCATION:Localisation   
CATEGORIES:Administratif
STATUS:
URL;VALUE=URI:https://www.runinparigne72.fr/evenements/2026/03/29/evenement-du-2026-03-29-2432123
END:VEVENT
END:VCALENDAR
