BEGIN:VCALENDAR
VERSION:2.0
PRODID:-//hacksw/handcal//NONSGML v1.0//EN
BEGIN:VEVENT
SUMMARY:PISTE - Footing 20min - PPG - footing veille de course - RAC 5min
UID:e0d63e28-80b3-425a-8379-c1dbf18c1679
DTSTART:20260326T230000Z
DTEND:20260327T230000Z
LOCATION:Localisation   
CATEGORIES:Administratif
STATUS:
URL;VALUE=URI:https://www.runinparigne72.fr/evenements/2026/03/27/piste-footing-20min-ppg-footing-veille-de-course-rac-5min-2432122
END:VEVENT
END:VCALENDAR
