BEGIN:VCALENDAR
VERSION:2.0
PRODID:-//hacksw/handcal//NONSGML v1.0//EN
BEGIN:VEVENT
SUMMARY:ROUTE - Footing 30min - PPG - 2X(10X150) rcup 30" rcup entre les sries 1' VMA - RAC 5min
UID:e80b21cd-116f-4416-89ab-fc823c082bd6
DTSTART:20260324T230000Z
DTEND:20260325T230000Z
LOCATION:Localisation   
CATEGORIES:Administratif
STATUS:
URL;VALUE=URI:https://www.runinparigne72.fr/evenements/2026/03/25/route-footing-30min-ppg-2x10x150-rcup-30-rcup-entre-les-sries-1-vma-rac-5min-2432121
END:VEVENT
END:VCALENDAR
