BEGIN:VCALENDAR
VERSION:2.0
PRODID:-//hacksw/handcal//NONSGML v1.0//EN
BEGIN:VEVENT
SUMMARY:ROUTE - Footing 25min - PPG - footing - RAC 5min
UID:15fec93c-1819-4fb9-bf5e-c8e0c266c5ff
DTSTART:20260322T230000Z
DTEND:20260323T230000Z
LOCATION:Localisation   
CATEGORIES:Administratif
STATUS:
URL;VALUE=URI:https://www.runinparigne72.fr/evenements/2026/03/23/route-footing-25min-ppg-footing-rac-5min-2432120
END:VEVENT
END:VCALENDAR
