BEGIN:VCALENDAR
VERSION:2.0
PRODID:-//hacksw/handcal//NONSGML v1.0//EN
BEGIN:VEVENT
SUMMARY:Renfo Gammes levees de genoux Abdo dead bug Tabata A Planks Tabata 2 Push pull leg avec haltere, superman actif, jumping jacks Tabata 3 Exos ischio Deadlift sur une jambe DG avec haltere, Nordic curl  Tabata 4 elastics - Mobilite - Etirements
UID:c04dfe10-2754-4c7a-bf3a-40ecd5894025
DTSTART:20260323T174500Z
DTEND:20260323T193000Z
LOCATION:Localisation   
CATEGORIES:Sportif
STATUS:
URL;VALUE=URI:https://www.runinparigne72.fr/evenements/2026/03/23/renfo-gammes-levees-de-genoux-abdo-dead-bug-tabata-a-planks-tabata-2-push-pull-leg-avec-haltere-superman-actif-jumping-jacks-tabata-3-exos-ischio-deadlift-sur-une-jambe-dg-avec-haltere-nordic-curl-tabata-4-elastics-mobilite-etirements-2431649
END:VEVENT
END:VCALENDAR
