BEGIN:VCALENDAR
VERSION:2.0
PRODID:-//hacksw/handcal//NONSGML v1.0//EN
BEGIN:VEVENT
SUMMARY:Footing
UID:8bee9ab5-57dc-417d-a1ba-eb246acfc594
DTSTART:20260323T174500Z
DTEND:20260323T230000Z
LOCATION:Localisation   
CATEGORIES:Sportif
STATUS:
URL;VALUE=URI:https://www.runinparigne72.fr/evenements/2026/03/23/footing-2431650
END:VEVENT
END:VCALENDAR
