BEGIN:VCALENDAR
VERSION:2.0
PRODID:-//hacksw/handcal//NONSGML v1.0//EN
BEGIN:VEVENT
SUMMARY:[Non encadr] - NATURE - SL 55  1h15
UID:5d32f851-912d-49c2-a625-b9fb7b6f8be9
DTSTART:20260321T230000Z
DTEND:20260322T230000Z
LOCATION:Localisation   
CATEGORIES:Administratif
STATUS:
URL;VALUE=URI:https://www.runinparigne72.fr/evenements/2026/03/22/non-encadr-nature-sl-55-1h15-2432119
END:VEVENT
END:VCALENDAR
