BEGIN:VCALENDAR
VERSION:2.0
PRODID:-//hacksw/handcal//NONSGML v1.0//EN
BEGIN:VEVENT
SUMMARY:PISTE - Footing 20min - PPG - 3X (1000 - rcup 300 - 500 - rcup 100 - 1000) rcup entre les sries 400 90% VMA - RAC 5min
UID:6e6c0e5b-f71a-4db9-be7b-f560c6828ff6
DTSTART:20260319T230000Z
DTEND:20260320T230000Z
LOCATION:Localisation   
CATEGORIES:Administratif
STATUS:
URL;VALUE=URI:https://www.runinparigne72.fr/evenements/2026/03/20/piste-footing-20min-ppg-3x-1000-rcup-300-500-rcup-100-1000-rcup-entre-les-sries-400-90-vma-rac-5min-2432118
END:VEVENT
END:VCALENDAR
