BEGIN:VCALENDAR
VERSION:2.0
PRODID:-//hacksw/handcal//NONSGML v1.0//EN
BEGIN:VEVENT
SUMMARY:ROUTE - Footing 25min - PPG - 2X(8X300m)rcup 100m rcup entre les 2 sries 2'' 100%VMA - RAC 5min
UID:42d71c6b-e55b-45cb-a4a9-1c2c93fff1b8
DTSTART:20260317T230000Z
DTEND:20260318T230000Z
LOCATION:Localisation   
CATEGORIES:Administratif
STATUS:
URL;VALUE=URI:https://www.runinparigne72.fr/evenements/2026/03/18/route-footing-25min-ppg-2x8x300mrcup-100m-rcup-entre-les-2-sries-2-100vma-rac-5min-2432117
END:VEVENT
END:VCALENDAR
