BEGIN:VCALENDAR
VERSION:2.0
PRODID:-//hacksw/handcal//NONSGML v1.0//EN
BEGIN:VEVENT
SUMMARY:Renfo  Abdos - TABATA 1 Squats sautes, fentes sautees alternees, montee de genoux stoppes TABATA 2 deadlift jambes tendues lent, exo ischio excentric TABATA 3 superman, adducteurs, pompes TABATA 4 Pont fessier sur 2 jambes et DG TABATA 5 Mollets
UID:9c9bd83d-a412-4134-81cd-074c1ab6d833
DTSTART:20260316T174500Z
DTEND:20260316T191500Z
LOCATION:Localisation   
CATEGORIES:Sportif
STATUS:
URL;VALUE=URI:https://www.runinparigne72.fr/evenements/2026/03/16/renfo-abdos-tabata-1-squats-sautes-fentes-sautees-alternees-montee-de-genoux-stoppes-tabata-2-deadlift-jambes-tendues-lent-exo-ischio-excentric-tabata-3-superman-adducteurs-pompes-tabata-4-pont-fessier-sur-2-jambes-et-dg-tabata-5-mollets-2428826
END:VEVENT
END:VCALENDAR
