BEGIN:VCALENDAR
VERSION:2.0
PRODID:-//hacksw/handcal//NONSGML v1.0//EN
BEGIN:VEVENT
SUMMARY:PISTE - Footing 25min - PPG - 12 x (1' + 15'') recup 45'' 85%VMA + 100%VMA - RAC 5min
UID:64491fb9-b9f6-444d-bbe9-073d592109de
DTSTART:20260315T230000Z
DTEND:20260316T230000Z
LOCATION:Localisation   
CATEGORIES:Administratif
STATUS:
URL;VALUE=URI:https://www.runinparigne72.fr/evenements/2026/03/16/piste-footing-25min-ppg-12-x-1-15-recup-45-85vma-100vma-rac-5min-2432116
END:VEVENT
END:VCALENDAR
