BEGIN:VCALENDAR
VERSION:2.0
PRODID:-//hacksw/handcal//NONSGML v1.0//EN
BEGIN:VEVENT
SUMMARY:12x(1’+15”)r’45” 85%+100%
UID:08d8e201-96ba-4281-aa7a-870b1f30d8c3
DTSTART:20260316T174500Z
DTEND:20260316T230000Z
LOCATION:Localisation   
CATEGORIES:Sportif
STATUS:
URL;VALUE=URI:https://www.runinparigne72.fr/evenements/2026/03/16/12x115r45-85100-2428827
END:VEVENT
END:VCALENDAR
