BEGIN:VCALENDAR
VERSION:2.0
PRODID:-//hacksw/handcal//NONSGML v1.0//EN
BEGIN:VEVENT
SUMMARY:Renfo TABATA 1 Abdos - TABATA 2 Chaise, Squat, fentes sautees EMOM 3 tours, 20 fentes av DG, 20 fentes arr DG, 20 fentes Arr DG croisees TABATA 3 exo elastiques lateral DG, Arriere DG  - Mobilite etirements
UID:51b712ac-777c-4e20-aa33-5f8010908c10
DTSTART:20260309T174500Z
DTEND:20260309T191500Z
LOCATION:Localisation   
CATEGORIES:Sportif
STATUS:
URL;VALUE=URI:https://www.runinparigne72.fr/evenements/2026/03/09/renfo-tabata-1-abdos-tabata-2-chaise-squat-fentes-sautees-emom-3-tours-20-fentes-av-dg-20-fentes-arr-dg-20-fentes-arr-dg-croisees-tabata-3-exo-elastiques-lateral-dg-arriere-dg-mobilite-etirements-2425231
END:VEVENT
END:VCALENDAR
