BEGIN:VCALENDAR
VERSION:2.0
PRODID:-//hacksw/handcal//NONSGML v1.0//EN
BEGIN:VEVENT
SUMMARY:PISTE - Footing 20min - PPG - 4x (200m-r100m-400m-r200m-200m)R400 VMA
UID:be78afa9-8457-482f-9ffe-615cbb176835
DTSTART:20260309T174500Z
DTEND:20260309T230000Z
LOCATION:Localisation   
CATEGORIES:Sportif
STATUS:
URL;VALUE=URI:https://www.runinparigne72.fr/evenements/2026/03/09/piste-footing-20min-ppg-4x-200m-r100m-400m-r200m-200mr400-vma-2425232
END:VEVENT
END:VCALENDAR
